BEGIN:VCALENDAR
VERSION:2.0
PRODID:-//Works from the Woods - ECPv6.15.20//NONSGML v1.0//EN
CALSCALE:GREGORIAN
METHOD:PUBLISH
X-ORIGINAL-URL:https://worksfromthewoods.store
X-WR-CALDESC:Events for Works from the Woods
REFRESH-INTERVAL;VALUE=DURATION:PT1H
X-Robots-Tag:noindex
X-PUBLISHED-TTL:PT1H
BEGIN:VTIMEZONE
TZID:America/New_York
BEGIN:DAYLIGHT
TZOFFSETFROM:-0500
TZOFFSETTO:-0400
TZNAME:EDT
DTSTART:20170312T070000
END:DAYLIGHT
BEGIN:STANDARD
TZOFFSETFROM:-0400
TZOFFSETTO:-0500
TZNAME:EST
DTSTART:20171105T060000
END:STANDARD
BEGIN:DAYLIGHT
TZOFFSETFROM:-0500
TZOFFSETTO:-0400
TZNAME:EDT
DTSTART:20180311T070000
END:DAYLIGHT
BEGIN:STANDARD
TZOFFSETFROM:-0400
TZOFFSETTO:-0500
TZNAME:EST
DTSTART:20181104T060000
END:STANDARD
BEGIN:DAYLIGHT
TZOFFSETFROM:-0500
TZOFFSETTO:-0400
TZNAME:EDT
DTSTART:20190310T070000
END:DAYLIGHT
BEGIN:STANDARD
TZOFFSETFROM:-0400
TZOFFSETTO:-0500
TZNAME:EST
DTSTART:20191103T060000
END:STANDARD
BEGIN:DAYLIGHT
TZOFFSETFROM:-0500
TZOFFSETTO:-0400
TZNAME:EDT
DTSTART:20200308T070000
END:DAYLIGHT
BEGIN:STANDARD
TZOFFSETFROM:-0400
TZOFFSETTO:-0500
TZNAME:EST
DTSTART:20201101T060000
END:STANDARD
END:VTIMEZONE
BEGIN:VEVENT
DTSTART;TZID=America/New_York:20190817T080000
DTEND;TZID=America/New_York:20190817T120000
DTSTAMP:20260423T151214
CREATED:20190816T223507Z
LAST-MODIFIED:20190816T223507Z
UID:1983-1566028800-1566043200@worksfromthewoods.store
SUMMARY:Carlisle Farmers' Market
DESCRIPTION:Share this:Share\n				Share on Reddit (Opens in new window)\n				Reddit\n			\n				Print (Opens in new window)\n				Print\n			\n				Email a link to a friend (Opens in new window)\n				Email\n			\n				Share on WhatsApp (Opens in new window)\n				WhatsApp\n			\n				Share on LinkedIn (Opens in new window)\n				LinkedIn
URL:https://worksfromthewoods.store/event/carlisle-farmers-market/
LOCATION:Kimball’s Farm\, Carlisle\, 343 Bedford Rd.\, Carlisle\, ma\, 01741
END:VEVENT
BEGIN:VEVENT
DTSTART;TZID=America/New_York:20190303T140000
DTEND;TZID=America/New_York:20190303T170000
DTSTAMP:20260423T151214
CREATED:20190116T162344Z
LAST-MODIFIED:20190202T201503Z
UID:1484-1551621600-1551632400@worksfromthewoods.store
SUMMARY:Zentangle and Sgraffito - 3/3/19 - 2 - 5 pm
DESCRIPTION:Join certified Zentangle teacher\, Donna Spencer\, and potter\, Virginia Wood\, as we lead you through the steps to make a functional stoneware tray on which you will carve beautiful sgraffito designs inspired by the mindful art of Zentangle. \nThe workshop starts with you making a clay platter. You will then spend an hour learning from Donna about the mindful art of Zentangle. You will take what you learned from Donna\, and apply it to your platter. Your design will be completely your own on a ceramic platter you make from scratch. A wholly satisfying creative endeavor! \nNo experience needed! Click here to reserve your spot – limited to just 4 students. Once you make your platter\, it will take time to dry before it is fired in the kiln. The platters are available for pick up 2 – 3 weeks following the date you make them. \nA couple of platters\, similar to what will be made during the workshop\, that were made using the sgraffito technique. Your design\, though\, will be your own! \nNot available March 3\, but you would still like to make the platters\, gather three other friends\, and Donna and I will work with you to find a date that works.  \n  \nShare this:Share\n				Share on Reddit (Opens in new window)\n				Reddit\n			\n				Print (Opens in new window)\n				Print\n			\n				Email a link to a friend (Opens in new window)\n				Email\n			\n				Share on WhatsApp (Opens in new window)\n				WhatsApp\n			\n				Share on LinkedIn (Opens in new window)\n				LinkedIn
URL:https://worksfromthewoods.store/event/zentangle-and-sgraffito-3-3-19-2-5-pm/
LOCATION:Works from the Woods
CATEGORIES:Workshop
ORGANIZER;CN="Works from the Woods":MAILTO:whistlewood1@gmail.com
END:VEVENT
BEGIN:VEVENT
DTSTART;TZID=America/New_York:20190224T140000
DTEND;TZID=America/New_York:20190224T160000
DTSTAMP:20260423T151214
CREATED:20190205T153706Z
LAST-MODIFIED:20190218T153335Z
UID:1631-1551016800-1551024000@worksfromthewoods.store
SUMMARY:Make a Lotion or Soap Dispenser
DESCRIPTION:In this two hour workshop\, you will make and decorate a lotion bottle made of stoneware clay. The first hour will be focused on making the actual bottle and decorating it with applique. The second hour will be spent glazing it. You can make a bottle similar to the one pictured\, or come up with your very own design – maybe sea oriented\, or even sports related. The bottle will then be left to dry for a week before being fired in a kiln. The actual bottle\, with lotion pump\, will be available for pick up with in 3 weeks. \nThis workshop will take place Tuesday\, February 12\, from 6 – 8 pm. If you can’t make this date and would like to schedule another time\, use the contact us tab and let me know what date and time would work for you (min 4 people). \n     \nShare this:Share\n				Share on Reddit (Opens in new window)\n				Reddit\n			\n				Print (Opens in new window)\n				Print\n			\n				Email a link to a friend (Opens in new window)\n				Email\n			\n				Share on WhatsApp (Opens in new window)\n				WhatsApp\n			\n				Share on LinkedIn (Opens in new window)\n				LinkedIn
URL:https://worksfromthewoods.store/event/make-a-lotion-or-soap-dispenser/
LOCATION:Works from the Woods
CATEGORIES:Workshop
ORGANIZER;CN="Works from the Woods":MAILTO:whistlewood1@gmail.com
END:VEVENT
BEGIN:VEVENT
DTSTART;TZID=America/New_York:20190115T180000
DTEND;TZID=America/New_York:20190115T210000
DTSTAMP:20260423T151214
CREATED:20181225T131847Z
LAST-MODIFIED:20181225T131847Z
UID:1375-1547575200-1547586000@worksfromthewoods.store
SUMMARY:Zentangle and Clay
DESCRIPTION:What could be more fun and more relaxing than combining clay with Zentangle! Join certified Zentangle instructor Donna Spencer\, and potter Virginia Wood\, to make a stoneware platter on which you will incorporate the mindful art of Zentangle and the rewards of working with clay. You will take a lump of clay\, turn it into a beautiful platter\, and then glaze it like a skilled artist – all with no experience necessary! \nThis class is going to be so much fun! I met Donna when I ran Gallery 529 in Littleton. She sold her Zentangle artwork at the gallery\, which was very well received by all! I have been teaching pottery for decades to folks of all ages. It wasn’t until the other day I was doodling on one of my pots\, in an attempt to glaze it in a different manner than I ever had.  It occurred to me\, there was a much better strategy out there and called Donna. \nThe class will start out with you making the platter. Then you will join Donna to learn 5 Zentangle designs which you will practice\, and a 6th you can choose from a selection she will have. After you have mastered your designs\, you will return to glaze your platter\, using those designs! \nThe class will take the full 3 hours\, so being on time is important. \nThe design pictured is just one of the many pictures Donna sold at the gallery. The platter is similar in size and shape to the one you will be glazing. We hope to have examples of what the two will look like together\, in the coming weeks\, though\, there is so much room for individuality in this project that whatever you make will be a reflection of you. \nI am so excited by this class because even the most reticent or reluctant artist to be will find success with this project! \nThe final platter will be about 10 inches by 6 inches\, microwavable\, oven proof\, and dishwasher safe! It will be available for pick up within 2 weeks after the class. In addition to the platter\, Donna will also leave you with a packet of supplies so that you can continue to learn and practice the thousands of Zentangle designs that are out there. \nIf you have a group of people who would like to do this\, but the date is not good for you\, Donna and I are happy to work with your schedule. Just use the contact form on the menu to let us know. \nIf Paypal is not working\, contact us through the contact tab on the main menu and we can invoice you through Square. \nShare this:Share\n				Share on Reddit (Opens in new window)\n				Reddit\n			\n				Print (Opens in new window)\n				Print\n			\n				Email a link to a friend (Opens in new window)\n				Email\n			\n				Share on WhatsApp (Opens in new window)\n				WhatsApp\n			\n				Share on LinkedIn (Opens in new window)\n				LinkedIn
URL:https://worksfromthewoods.store/event/zentangle-and-clay/
LOCATION:ma
CATEGORIES:Workshop
ATTACH;FMTTYPE=image/jpeg:https://worksfromthewoods.store/wp-content/uploads/2018/10/20181103_203221-e1545743618698.jpg
ORGANIZER;CN="Works from the Woods":MAILTO:whistlewood1@gmail.com
END:VEVENT
BEGIN:VEVENT
DTSTART;TZID=America/New_York:20190115T140000
DTEND;TZID=America/New_York:20190121T170000
DTSTAMP:20260423T151214
CREATED:20190115T145156Z
LAST-MODIFIED:20190115T145156Z
UID:1480-1547560800-1548090000@worksfromthewoods.store
SUMMARY:Make a Fairy House - Monday 1/21/2019 - 2 - 5 pm
DESCRIPTION:Doesn’t every fairy deserve a roof over their head? Now you can provide a safe and beautiful home for your fairies. \nYou will make a ceramic home using slabs of clay and different textures to create that one of a kind home. You will be led through basic construction\, and helped to design any embellishments you want to add\, within the time allowed. The basic construction is a stone\, cobblestone\, or brick textured house\, with a flower (datura type) roof. It takes a full 3 hours to make one of these houses – the first hour is spent building the house and roof\, the second hour is adding any embellishments – mushrooms\, butterflies\, bugs\, flowers\, door\, windowboxes…etc.)\, and the final hour is painting or glazing the the house. \nAfter you make your house and it has dried\, I fire it in a kiln to 1900 degrees fahrenheit. I then add a clear satin glaze over the outside of your house\, and refire to 2200 degrees fahrenheit. Your finished house will be available for pick up within 2 weeks. \nThis workshop is limited to 4 people. If you would like to schedule a private workshop for just you and your friends and family\, that is easily accomplished. Just use the “Contact” tab on the main menu. \nTheoretically\, these houses can be left out all winter\, but it is not advisable. \n \n\n  \n  \n  \n  \n  \nHouses made by other folks taking the workshop:\n \n \nShare this:Share\n				Share on Reddit (Opens in new window)\n				Reddit\n			\n				Print (Opens in new window)\n				Print\n			\n				Email a link to a friend (Opens in new window)\n				Email\n			\n				Share on WhatsApp (Opens in new window)\n				WhatsApp\n			\n				Share on LinkedIn (Opens in new window)\n				LinkedIn
URL:https://worksfromthewoods.store/event/make-a-fairy-house-monday-1-21-2019-2-5-pm/
LOCATION:Works from the Woods
CATEGORIES:Workshop
ATTACH;FMTTYPE=image/jpeg:https://worksfromthewoods.store/wp-content/uploads/2018/12/20190115_084651-e1547562701556.jpg
END:VEVENT
BEGIN:VEVENT
DTSTART;TZID=America/New_York:20181212T190000
DTEND;TZID=America/New_York:20181212T210000
DTSTAMP:20260423T151214
CREATED:20181102T152430Z
LAST-MODIFIED:20181104T014636Z
UID:1148-1544641200-1544648400@worksfromthewoods.store
SUMMARY:Build A Stoneware Toad House!
DESCRIPTION:  \nWhat?! You say your toads are homeless? Now\, you can build your toads their very own safe and secure home\, out from under foot\, perfect for your garden. This particular house is ten inches tall and 7 inches wide. \nYou will make a ceramic home using slabs of clay and different textures to create that one of a kind home. You will be led through basic construction\, and helped to design any embellishments you want to add. After you make and glaze your house\, using underglazes\, your project will be bisque fired\, then glazed with a clear satin glaze\, and refired to nearly 2200 degrees fahrenheit.  Your finished toad house will be available for pick up within a week. \nIt will take the full two hours to construct this house\, so it is necessary that you arrive on time. This workshop is limited to 4 people. If you would like to schedule a private workshop for just you and your friends and family\, that is easily accomplished. Just use the “Contact” tab on the main menu. \nTheoretically\, these houses can be left out all winter\, but it is not advisable. \nAlso suitable for faeries.  \n  \n  \nShare this:Share\n				Share on Reddit (Opens in new window)\n				Reddit\n			\n				Print (Opens in new window)\n				Print\n			\n				Email a link to a friend (Opens in new window)\n				Email\n			\n				Share on WhatsApp (Opens in new window)\n				WhatsApp\n			\n				Share on LinkedIn (Opens in new window)\n				LinkedIn
URL:https://worksfromthewoods.store/event/build-a-stoneware-toad-house/
LOCATION:ma
CATEGORIES:Workshop
ATTACH;FMTTYPE=image/jpeg:https://worksfromthewoods.store/wp-content/uploads/2018/11/20181101_233226-e1541171264958.jpg
END:VEVENT
BEGIN:VEVENT
DTSTART;TZID=America/New_York:20181211T180000
DTEND;TZID=America/New_York:20181211T210000
DTSTAMP:20260423T151214
CREATED:20181102T155903Z
LAST-MODIFIED:20181104T014506Z
UID:1160-1544551200-1544562000@worksfromthewoods.store
SUMMARY:Zentangle Platter
DESCRIPTION:What could be more fun and more relaxing than combining clay with Zentangle! Join certified Zentangle instructor Donna Spencer\, and potter Virginia Wood\, to make a stoneware platter on which you will incorporate the mindful art of Zentangle and the rewards of working with clay. You will take a lump of clay\, turn it into a beautiful platter\, and then glaze it like a skilled artist – all with no experience necessary! \nThis class is going to be so much fun! I met Donna when I ran Gallery 529 in Littleton. She sold her Zentangle artwork at the gallery\, which was very well received by all! I have been teaching pottery for decades to folks of all ages. It wasn’t until the other day I was doodling on one of my pots\, in an attempt to glaze it in a different manner than I ever had.  It occurred to me\, there was a much better strategy out there and called Donna. \nThe class will start out with you making the platter. Then you will join Donna to learn 5 Zentangle designs which you will practice\, and a 6th you can choose from a selection she will have. After you have mastered your designs\, you will return to glaze your platter\, using those designs! \nThe class will take the full 3 hours\, so being on time is important. \nThe design pictured is just one of the many pictures Donna sold at the gallery. The platter is similar in size and shape to the one you will be glazing. We hope to have examples of what the two will look like together\, in the coming weeks\, though\, there is so much room for individuality in this project that whatever you make will be a reflection of you. \nI am so excited by this class because even the most reticent or reluctant artist to be will find success with this project! \nThe final platter will be about 10 inches by 6 inches\, microwavable\, oven proof\, and dishwasher safe! It will be available for pick up within 2 weeks after the class. In addition to the platter\, Donna will also leave you with a packet of supplies so that you can continue to learn and practice the thousands of Zentangle designs that are out there. \nIf you have a group of people who would like to do this\, but the date is not good for you\, Donna and I are happy to work with your schedule. Just use the contact form on the menu to let us know. \nShare this:Share\n				Share on Reddit (Opens in new window)\n				Reddit\n			\n				Print (Opens in new window)\n				Print\n			\n				Email a link to a friend (Opens in new window)\n				Email\n			\n				Share on WhatsApp (Opens in new window)\n				WhatsApp\n			\n				Share on LinkedIn (Opens in new window)\n				LinkedIn
URL:https://worksfromthewoods.store/event/1160/
LOCATION:ma
CATEGORIES:Workshop
ATTACH;FMTTYPE=image/jpeg:https://worksfromthewoods.store/wp-content/uploads/2018/10/20181103_203221-e1545743618698.jpg
ORGANIZER;CN="Works from the Woods":MAILTO:whistlewood1@gmail.com
END:VEVENT
BEGIN:VEVENT
DTSTART;TZID=America/New_York:20181202T130000
DTEND;TZID=America/New_York:20181202T150000
DTSTAMP:20260423T151214
CREATED:20181104T014149Z
LAST-MODIFIED:20181118T143734Z
UID:1194-1543755600-1543762800@worksfromthewoods.store
SUMMARY:Leaf Ornament Workshop
DESCRIPTION:Using white stoneware and leaves from the yard\, you will will make 15 leaf ornaments all about 2.5 inches square. These ornaments can be used for holiday decoration\, or string them together to make a wind chime. \nThis is a two day workshop. The first day (DECEMBER 2\, 1 – 3 PM) will be spent making the ornaments\, the second day (DECEMBER 9\, 1 – 3 PM) will be spent cleaning them up and glazing. You will be able to pick up the ornaments (wind chimes) within the following week. \nGlazes available include: black\, green\, brown\, silver\, copper colored\, and sparkled brown. \nThe leaves can also be glazed using under glazes\, and then a clear coat. The colors of under glazes available include: black\, white\, red\, yellow\, green\, brown\, and various shades of pinks\, purples\, and blues. \nALL AGES WELCOME\, young children must be accompanied by an adult. \nSilver Glaze\nBrown Sparkled\nShare this:Share\n				Share on Reddit (Opens in new window)\n				Reddit\n			\n				Print (Opens in new window)\n				Print\n			\n				Email a link to a friend (Opens in new window)\n				Email\n			\n				Share on WhatsApp (Opens in new window)\n				WhatsApp\n			\n				Share on LinkedIn (Opens in new window)\n				LinkedIn
URL:https://worksfromthewoods.store/event/leaf-ornament-workshop/
LOCATION:ma
CATEGORIES:Workshop
END:VEVENT
BEGIN:VEVENT
DTSTART;TZID=America/New_York:20181111T130000
DTEND;TZID=America/New_York:20181111T150000
DTSTAMP:20260423T151214
CREATED:20181103T234228Z
LAST-MODIFIED:20181103T234228Z
UID:1178-1541941200-1541948400@worksfromthewoods.store
SUMMARY:Private Workshop
DESCRIPTION:Fern Platter \nShare this:Share\n				Share on Reddit (Opens in new window)\n				Reddit\n			\n				Print (Opens in new window)\n				Print\n			\n				Email a link to a friend (Opens in new window)\n				Email\n			\n				Share on WhatsApp (Opens in new window)\n				WhatsApp\n			\n				Share on LinkedIn (Opens in new window)\n				LinkedIn
URL:https://worksfromthewoods.store/event/private-workshop/
LOCATION:Works from the Woods
CATEGORIES:Workshop
ORGANIZER;CN="Works from the Woods":MAILTO:whistlewood1@gmail.com
END:VEVENT
BEGIN:VEVENT
DTSTART;TZID=America/New_York:20181107T150000
DTEND;TZID=America/New_York:20181107T170000
DTSTAMP:20260423T151214
CREATED:20181103T235917Z
LAST-MODIFIED:20181104T000728Z
UID:1183-1541602800-1541610000@worksfromthewoods.store
SUMMARY:Private Pottery Lesson Every Wednesday
DESCRIPTION:Private Lesson \nShare this:Share\n				Share on Reddit (Opens in new window)\n				Reddit\n			\n				Print (Opens in new window)\n				Print\n			\n				Email a link to a friend (Opens in new window)\n				Email\n			\n				Share on WhatsApp (Opens in new window)\n				WhatsApp\n			\n				Share on LinkedIn (Opens in new window)\n				LinkedIn
URL:https://worksfromthewoods.store/event/private-pottery-lesson-every-wednesday/
LOCATION:ma
CATEGORIES:Workshop
ATTACH;FMTTYPE=image/jpeg:https://worksfromthewoods.store/wp-content/uploads/2018/02/throwing.jpg
ORGANIZER;CN="Works from the Woods":MAILTO:whistlewood1@gmail.com
END:VEVENT
BEGIN:VEVENT
DTSTART;TZID=America/New_York:20181106T180000
DTEND;TZID=America/New_York:20181106T200000
DTSTAMP:20260423T151214
CREATED:20181103T234748Z
LAST-MODIFIED:20181103T234823Z
UID:1181-1541527200-1541534400@worksfromthewoods.store
SUMMARY:Last PCC Class
DESCRIPTION:Last Class \nShare this:Share\n				Share on Reddit (Opens in new window)\n				Reddit\n			\n				Print (Opens in new window)\n				Print\n			\n				Email a link to a friend (Opens in new window)\n				Email\n			\n				Share on WhatsApp (Opens in new window)\n				WhatsApp\n			\n				Share on LinkedIn (Opens in new window)\n				LinkedIn
URL:https://worksfromthewoods.store/event/last-pcc-class/
LOCATION:Works from the Woods
CATEGORIES:Workshop
ATTACH;FMTTYPE=image/jpeg:https://worksfromthewoods.store/wp-content/uploads/2018/02/throwing.jpg
ORGANIZER;CN="Works from the Woods":MAILTO:whistlewood1@gmail.com
END:VEVENT
END:VCALENDAR